BEGIN:VCALENDAR
VERSION:2.0
PRODID:-//Tim Campbell and the Tropical Attitudes Band - ECPv6.15.0.1//NONSGML v1.0//EN
CALSCALE:GREGORIAN
METHOD:PUBLISH
X-ORIGINAL-URL:http://tropicalattitudesband.com
X-WR-CALDESC:Events for Tim Campbell and the Tropical Attitudes Band
REFRESH-INTERVAL;VALUE=DURATION:PT1H
X-Robots-Tag:noindex
X-PUBLISHED-TTL:PT1H
BEGIN:VTIMEZONE
TZID:America/New_York
BEGIN:DAYLIGHT
TZOFFSETFROM:-0500
TZOFFSETTO:-0400
TZNAME:EDT
DTSTART:20200308T070000
END:DAYLIGHT
BEGIN:STANDARD
TZOFFSETFROM:-0400
TZOFFSETTO:-0500
TZNAME:EST
DTSTART:20201101T060000
END:STANDARD
END:VTIMEZONE
BEGIN:VEVENT
DTSTART;TZID=America/New_York:20200711T180000
DTEND;TZID=America/New_York:20200711T210000
DTSTAMP:20260422T215320
CREATED:20200219T235604Z
LAST-MODIFIED:20200219T235604Z
UID:783-1594490400-1594501200@tropicalattitudesband.com
SUMMARY:DuCard Vineyards
DESCRIPTION:
URL:http://tropicalattitudesband.com/event/ducard-vineyards-2/
LOCATION:DuCard Vineyards\, 40 Gibson Hollow Lane\, Etlan\, VA\, 22719\, United States
END:VEVENT
BEGIN:VEVENT
DTSTART;TZID=America/New_York:20200718T200000
DTEND;TZID=America/New_York:20200718T230000
DTSTAMP:20260422T215320
CREATED:20200219T235722Z
LAST-MODIFIED:20200220T000151Z
UID:785-1595102400-1595113200@tropicalattitudesband.com
SUMMARY:Harris Pavilion
DESCRIPTION:
URL:http://tropicalattitudesband.com/event/harris-pavilion/
LOCATION:Harris Pavilion\, Manassas\, VA\, United States
END:VEVENT
BEGIN:VEVENT
DTSTART;TZID=America/New_York:20200725T150000
DTEND;TZID=America/New_York:20200725T180000
DTSTAMP:20260422T215320
CREATED:20200219T235400Z
LAST-MODIFIED:20200723T004746Z
UID:781-1595689200-1595700000@tropicalattitudesband.com
SUMMARY:Barnhouse Brewery
DESCRIPTION:
URL:http://tropicalattitudesband.com/event/barnhouse-brewery/
LOCATION:Barnhouse Brewery\, 43271 Spinks Ferry Road\, Leesburg\, VA\, 20176\, United States
END:VEVENT
END:VCALENDAR