BEGIN:VCALENDAR
VERSION:2.0
PRODID:-//Tim Campbell and the Tropical Attitudes Band - ECPv6.15.0.1//NONSGML v1.0//EN
CALSCALE:GREGORIAN
METHOD:PUBLISH
X-ORIGINAL-URL:http://tropicalattitudesband.com
X-WR-CALDESC:Events for Tim Campbell and the Tropical Attitudes Band
REFRESH-INTERVAL;VALUE=DURATION:PT1H
X-Robots-Tag:noindex
X-PUBLISHED-TTL:PT1H
BEGIN:VTIMEZONE
TZID:America/New_York
BEGIN:DAYLIGHT
TZOFFSETFROM:-0500
TZOFFSETTO:-0400
TZNAME:EDT
DTSTART:20210314T070000
END:DAYLIGHT
BEGIN:STANDARD
TZOFFSETFROM:-0400
TZOFFSETTO:-0500
TZNAME:EST
DTSTART:20211107T060000
END:STANDARD
END:VTIMEZONE
BEGIN:VEVENT
DTSTART;TZID=America/New_York:20210424T180000
DTEND;TZID=America/New_York:20210424T210000
DTSTAMP:20260422T080701
CREATED:20210407T010134Z
LAST-MODIFIED:20210407T010134Z
UID:827-1619287200-1619298000@tropicalattitudesband.com
SUMMARY:Tim Campbell and David Marks Duo @ Tin Cannon Brewing
DESCRIPTION:Tim and Dave will be playing as a duo at Tin Cannon Brewing in Gainesville VA from 6 – 9
URL:http://tropicalattitudesband.com/event/tim-campbell-and-david-marks-duo-tin-cannon-brewing/
LOCATION:Tin Cannon Brewing\, 7679 Limestone Drive\, Gainesville\, VA\, 20155\, United States
END:VEVENT
END:VCALENDAR