BEGIN:VCALENDAR
VERSION:2.0
PRODID:-//Tim Campbell and the Tropical Attitudes Band - ECPv6.15.0.1//NONSGML v1.0//EN
CALSCALE:GREGORIAN
METHOD:PUBLISH
X-ORIGINAL-URL:http://tropicalattitudesband.com
X-WR-CALDESC:Events for Tim Campbell and the Tropical Attitudes Band
REFRESH-INTERVAL;VALUE=DURATION:PT1H
X-Robots-Tag:noindex
X-PUBLISHED-TTL:PT1H
BEGIN:VTIMEZONE
TZID:America/New_York
BEGIN:DAYLIGHT
TZOFFSETFROM:-0500
TZOFFSETTO:-0400
TZNAME:EDT
DTSTART:20210314T070000
END:DAYLIGHT
BEGIN:STANDARD
TZOFFSETFROM:-0400
TZOFFSETTO:-0500
TZNAME:EST
DTSTART:20211107T060000
END:STANDARD
END:VTIMEZONE
BEGIN:VEVENT
DTSTART;TZID=America/New_York:20210530T143000
DTEND;TZID=America/New_York:20210530T173000
DTSTAMP:20260422T064136
CREATED:20210423T001520Z
LAST-MODIFIED:20210423T001520Z
UID:837-1622385000-1622395800@tropicalattitudesband.com
SUMMARY:Tropical Attitudes @ DuCard Vineyards
DESCRIPTION:Tropical tunes at one of the most beautiful venues in VA.
URL:http://tropicalattitudesband.com/event/tropical-attitudes-ducard-vineyards-2/
LOCATION:DuCard Vineyards\, 40 Gibson Hollow Lane\, Etlan\, VA\, 22719\, United States
END:VEVENT
END:VCALENDAR