BEGIN:VCALENDAR
VERSION:2.0
PRODID:-//Tim Campbell and the Tropical Attitudes Band - ECPv6.15.0.1//NONSGML v1.0//EN
CALSCALE:GREGORIAN
METHOD:PUBLISH
X-WR-CALNAME:Tim Campbell and the Tropical Attitudes Band
X-ORIGINAL-URL:http://tropicalattitudesband.com
X-WR-CALDESC:Events for Tim Campbell and the Tropical Attitudes Band
REFRESH-INTERVAL;VALUE=DURATION:PT1H
X-Robots-Tag:noindex
X-PUBLISHED-TTL:PT1H
BEGIN:VTIMEZONE
TZID:America/New_York
BEGIN:DAYLIGHT
TZOFFSETFROM:-0500
TZOFFSETTO:-0400
TZNAME:EDT
DTSTART:20210314T070000
END:DAYLIGHT
BEGIN:STANDARD
TZOFFSETFROM:-0400
TZOFFSETTO:-0500
TZNAME:EST
DTSTART:20211107T060000
END:STANDARD
END:VTIMEZONE
BEGIN:VEVENT
DTSTART;TZID=America/New_York:20210717T190000
DTEND;TZID=America/New_York:20210717T210000
DTSTAMP:20260422T033349
CREATED:20210615T012857Z
LAST-MODIFIED:20210615T012941Z
UID:869-1626548400-1626555600@tropicalattitudesband.com
SUMMARY:Pirates of the Potomac - Benefit for Danny Rosado
DESCRIPTION:
URL:http://tropicalattitudesband.com/event/pirates-of-the-potomac-benefit-for-danny-rosado/
LOCATION:Harbour Hill House Concert Spot\, 126 Circle Drive\, Hanover\, PA\, United States
END:VEVENT
BEGIN:VEVENT
DTSTART;TZID=America/New_York:20210731T143000
DTEND;TZID=America/New_York:20210731T173000
DTSTAMP:20260422T033349
CREATED:20210423T001339Z
LAST-MODIFIED:20210423T001339Z
UID:835-1627741800-1627752600@tropicalattitudesband.com
SUMMARY:Tropical Attitudes @ DuCard Vineyards
DESCRIPTION:Head to the mountains for some tropical tunes and this amazing venue.
URL:http://tropicalattitudesband.com/event/tropical-attitudes-ducard-vineyards/
LOCATION:DuCard Vineyards\, 40 Gibson Hollow Lane\, Etlan\, VA\, 22719\, United States
END:VEVENT
END:VCALENDAR