BEGIN:VCALENDAR
VERSION:2.0
PRODID:-//Tim Campbell and the Tropical Attitudes Band - ECPv6.15.0.1//NONSGML v1.0//EN
CALSCALE:GREGORIAN
METHOD:PUBLISH
X-WR-CALNAME:Tim Campbell and the Tropical Attitudes Band
X-ORIGINAL-URL:http://tropicalattitudesband.com
X-WR-CALDESC:Events for Tim Campbell and the Tropical Attitudes Band
REFRESH-INTERVAL;VALUE=DURATION:PT1H
X-Robots-Tag:noindex
X-PUBLISHED-TTL:PT1H
BEGIN:VTIMEZONE
TZID:America/New_York
BEGIN:DAYLIGHT
TZOFFSETFROM:-0500
TZOFFSETTO:-0400
TZNAME:EDT
DTSTART:20210314T070000
END:DAYLIGHT
BEGIN:STANDARD
TZOFFSETFROM:-0400
TZOFFSETTO:-0500
TZNAME:EST
DTSTART:20211107T060000
END:STANDARD
END:VTIMEZONE
BEGIN:VEVENT
DTSTART;TZID=America/New_York:20210906T143000
DTEND;TZID=America/New_York:20210906T173000
DTSTAMP:20260422T002219
CREATED:20210423T002105Z
LAST-MODIFIED:20210423T002105Z
UID:841-1630938600-1630949400@tropicalattitudesband.com
SUMMARY:Tropical Attitudes @ DuCard Vineyards
DESCRIPTION:Party with the guys in the mountains of VA
URL:http://tropicalattitudesband.com/event/tropical-attitudes-ducard-vineyards-3/
LOCATION:DuCard Vineyards\, 40 Gibson Hollow Lane\, Etlan\, VA\, 22719\, United States
END:VEVENT
BEGIN:VEVENT
DTSTART;TZID=America/New_York:20210912T143000
DTEND;TZID=America/New_York:20210912T173000
DTSTAMP:20260422T002219
CREATED:20210506T230732Z
LAST-MODIFIED:20210908T003138Z
UID:844-1631457000-1631467800@tropicalattitudesband.com
SUMMARY:The Winery at Sunshine Ridge Farm
DESCRIPTION:Come on out and enjoy the beautiful view at The Winery at Sunshine Ridge Farm.  Sample the great wines\, beer and the yummy food from the Divine Swine Food Truck
URL:http://tropicalattitudesband.com/event/the-winery-at-sunshine-ridge-farm/
LOCATION:The Winery at Sunshine Ridge Farm\, 15850 Sunshine Ridge Lane\, Gainesville\, VA\, 20155\, United States
END:VEVENT
END:VCALENDAR