BEGIN:VCALENDAR
VERSION:2.0
PRODID:-//Tim Campbell and the Tropical Attitudes Band - ECPv6.15.0.1//NONSGML v1.0//EN
CALSCALE:GREGORIAN
METHOD:PUBLISH
X-ORIGINAL-URL:http://tropicalattitudesband.com
X-WR-CALDESC:Events for Tim Campbell and the Tropical Attitudes Band
REFRESH-INTERVAL;VALUE=DURATION:PT1H
X-Robots-Tag:noindex
X-PUBLISHED-TTL:PT1H
BEGIN:VTIMEZONE
TZID:America/New_York
BEGIN:DAYLIGHT
TZOFFSETFROM:-0500
TZOFFSETTO:-0400
TZNAME:EDT
DTSTART:20220313T070000
END:DAYLIGHT
BEGIN:STANDARD
TZOFFSETFROM:-0400
TZOFFSETTO:-0500
TZNAME:EST
DTSTART:20221106T060000
END:STANDARD
END:VTIMEZONE
BEGIN:VEVENT
DTSTART;TZID=America/New_York:20220528T140000
DTEND;TZID=America/New_York:20220528T170000
DTSTAMP:20260421T121727
CREATED:20220327T195814Z
LAST-MODIFIED:20220527T235407Z
UID:919-1653746400-1653757200@tropicalattitudesband.com
SUMMARY:Barnhouse Brewery
DESCRIPTION:We’re back at the place where it all began\, Barnhouse Brewery.  Join us from 3-6 on Saturday\, May 28th.
URL:http://tropicalattitudesband.com/event/barnhouse-brewery-2/
LOCATION:Barnhouse Brewery\, 43271 Spinks Ferry Road\, Leesburg\, VA\, 20176\, United States
END:VEVENT
BEGIN:VEVENT
DTSTART;TZID=America/New_York:20220529T143000
DTEND;TZID=America/New_York:20220529T173000
DTSTAMP:20260421T121727
CREATED:20220327T200203Z
LAST-MODIFIED:20220529T135827Z
UID:921-1653834600-1653845400@tropicalattitudesband.com
SUMMARY:DuCard Vineyards
DESCRIPTION:Come join us for some Trop Rock in the mountains on May 29th.
URL:http://tropicalattitudesband.com/event/ducard-vineyards-3/
LOCATION:DuCard Vineyards\, 40 Gibson Hollow Lane\, Etlan\, VA\, 22719\, United States
END:VEVENT
END:VCALENDAR